BEGIN:VCALENDAR
VERSION:2.0
PRODID:-//Ledet Training - ECPv6.15.14//NONSGML v1.0//EN
CALSCALE:GREGORIAN
METHOD:PUBLISH
X-ORIGINAL-URL:https://www.ledet.com
X-WR-CALDESC:Events for Ledet Training
REFRESH-INTERVAL;VALUE=DURATION:PT1H
X-Robots-Tag:noindex
X-PUBLISHED-TTL:PT1H
BEGIN:VTIMEZONE
TZID:America/New_York
BEGIN:DAYLIGHT
TZOFFSETFROM:-0500
TZOFFSETTO:-0400
TZNAME:EDT
DTSTART:20250309T070000
END:DAYLIGHT
BEGIN:STANDARD
TZOFFSETFROM:-0400
TZOFFSETTO:-0500
TZNAME:EST
DTSTART:20251102T060000
END:STANDARD
BEGIN:DAYLIGHT
TZOFFSETFROM:-0500
TZOFFSETTO:-0400
TZNAME:EDT
DTSTART:20260308T070000
END:DAYLIGHT
BEGIN:STANDARD
TZOFFSETFROM:-0400
TZOFFSETTO:-0500
TZNAME:EST
DTSTART:20261101T060000
END:STANDARD
BEGIN:DAYLIGHT
TZOFFSETFROM:-0500
TZOFFSETTO:-0400
TZNAME:EDT
DTSTART:20270314T070000
END:DAYLIGHT
BEGIN:STANDARD
TZOFFSETFROM:-0400
TZOFFSETTO:-0500
TZNAME:EST
DTSTART:20271107T060000
END:STANDARD
END:VTIMEZONE
BEGIN:VEVENT
DTSTART;VALUE=DATE:20260622
DTEND;VALUE=DATE:20260624
DTSTAMP:20260422T125121
CREATED:20251005T110256Z
LAST-MODIFIED:20251005T110256Z
UID:10066329-1782086400-1782259199@www.ledet.com
SUMMARY:InDesign 101
DESCRIPTION:
URL:https://www.ledet.com/class/indesign-101-43/
LOCATION:Chicago – N. State St\, 17 North State St Suite 1570\, Chicago\, IL\, 60602\, United States
CATEGORIES:Adobe InDesign
GEO:41.8826894;-87.6274492
X-APPLE-STRUCTURED-LOCATION;VALUE=URI;X-ADDRESS=Chicago – N. State St 17 North State St Suite 1570 Chicago IL 60602 United States;X-APPLE-RADIUS=500;X-TITLE=17 North State St Suite 1570:geo:-87.6274492,41.8826894
END:VEVENT
BEGIN:VEVENT
DTSTART;VALUE=DATE:20260622
DTEND;VALUE=DATE:20260624
DTSTAMP:20260422T125121
CREATED:20251005T110436Z
LAST-MODIFIED:20251005T110436Z
UID:10066357-1782086400-1782259199@www.ledet.com
SUMMARY:InDesign 101
DESCRIPTION:
URL:https://www.ledet.com/class/indesign-101-50/
LOCATION:Columbus- Dublin\, 3920 Tuller Road\, Dublin\, OH\, 43017\, United States
CATEGORIES:Adobe InDesign
GEO:40.108569;-83.0968304
X-APPLE-STRUCTURED-LOCATION;VALUE=URI;X-ADDRESS=Columbus- Dublin 3920 Tuller Road Dublin OH 43017 United States;X-APPLE-RADIUS=500;X-TITLE=3920 Tuller Road:geo:-83.0968304,40.108569
END:VEVENT
BEGIN:VEVENT
DTSTART;VALUE=DATE:20260622
DTEND;VALUE=DATE:20260624
DTSTAMP:20260422T125121
CREATED:20251005T130010Z
LAST-MODIFIED:20251005T130010Z
UID:10066385-1782086400-1782259199@www.ledet.com
SUMMARY:InDesign 101
DESCRIPTION:
URL:https://www.ledet.com/class/indesign-101-57/
LOCATION:Houston – Hilton Post Oak Galleria\, 2001 Post Oak Boulevard \,  Houston\, TX\, 77056\, United States
CATEGORIES:Adobe InDesign
GEO:29.7459314;-95.4596795
X-APPLE-STRUCTURED-LOCATION;VALUE=URI;X-ADDRESS=Houston – Hilton Post Oak Galleria 2001 Post Oak Boulevard   Houston TX 77056 United States;X-APPLE-RADIUS=500;X-TITLE=2001 Post Oak Boulevard:geo:-95.4596795,29.7459314
END:VEVENT
BEGIN:VEVENT
DTSTART;VALUE=DATE:20260622
DTEND;VALUE=DATE:20260624
DTSTAMP:20260422T125121
CREATED:20251005T130149Z
LAST-MODIFIED:20251005T130149Z
UID:10066413-1782086400-1782259199@www.ledet.com
SUMMARY:InDesign 101
DESCRIPTION:
URL:https://www.ledet.com/class/indesign-101-64/
LOCATION:Los Angeles\, 1985 East Grand Ave.\, El Segundo\, CA\, 90245\, United States
CATEGORIES:Adobe InDesign
GEO:33.9197794;-118.3918006
X-APPLE-STRUCTURED-LOCATION;VALUE=URI;X-ADDRESS=Los Angeles 1985 East Grand Ave. El Segundo CA 90245 United States;X-APPLE-RADIUS=500;X-TITLE=1985 East Grand Ave.:geo:-118.3918006,33.9197794
END:VEVENT
BEGIN:VEVENT
DTSTART;VALUE=DATE:20260622
DTEND;VALUE=DATE:20260624
DTSTAMP:20260422T125121
CREATED:20251005T130323Z
LAST-MODIFIED:20251005T130323Z
UID:10066441-1782086400-1782259199@www.ledet.com
SUMMARY:InDesign 101
DESCRIPTION:
URL:https://www.ledet.com/class/indesign-101-72/
LOCATION:Phoenix – Catalina Dr.\, 160 W. Catalina DrivePhoenix\, AZ 85013\, Phoenix\, AZ\, 85013\, United States
CATEGORIES:Adobe InDesign
GEO:33.482432;-112.0773985
X-APPLE-STRUCTURED-LOCATION;VALUE=URI;X-ADDRESS=Phoenix – Catalina Dr. 160 W. Catalina DrivePhoenix AZ 85013 Phoenix AZ 85013 United States;X-APPLE-RADIUS=500;X-TITLE=160 W. Catalina DrivePhoenix\, AZ 85013:geo:-112.0773985,33.482432
END:VEVENT
BEGIN:VEVENT
DTSTART;VALUE=DATE:20260622
DTEND;VALUE=DATE:20260624
DTSTAMP:20260422T125121
CREATED:20251005T130501Z
LAST-MODIFIED:20251005T130501Z
UID:10066469-1782086400-1782259199@www.ledet.com
SUMMARY:InDesign 101
DESCRIPTION:
URL:https://www.ledet.com/class/indesign-101-83/
LOCATION:Raleigh – Spring Forest Road\, 3621 Spring Forest Road\, Raleigh\, NC\, 27616\, United States
CATEGORIES:Adobe InDesign
GEO:35.8559374;-78.5790124
X-APPLE-STRUCTURED-LOCATION;VALUE=URI;X-ADDRESS=Raleigh – Spring Forest Road 3621 Spring Forest Road Raleigh NC 27616 United States;X-APPLE-RADIUS=500;X-TITLE=3621 Spring Forest Road:geo:-78.5790124,35.8559374
END:VEVENT
BEGIN:VEVENT
DTSTART;VALUE=DATE:20260622
DTEND;VALUE=DATE:20260624
DTSTAMP:20260422T125121
CREATED:20251005T140055Z
LAST-MODIFIED:20251005T140055Z
UID:10066497-1782086400-1782259199@www.ledet.com
SUMMARY:InDesign 101
DESCRIPTION:
URL:https://www.ledet.com/class/indesign-101-94/
LOCATION:Online\, Online Courses\, Atlanta\, GA\, United States
CATEGORIES:Adobe InDesign
GEO:37.09024;-95.712891
X-APPLE-STRUCTURED-LOCATION;VALUE=URI;X-ADDRESS=Online Online Courses Atlanta GA United States;X-APPLE-RADIUS=500;X-TITLE=Online Courses:geo:-95.712891,37.09024
END:VEVENT
BEGIN:VEVENT
DTSTART;VALUE=DATE:20260622
DTEND;VALUE=DATE:20260624
DTSTAMP:20260422T125121
CREATED:20251005T140243Z
LAST-MODIFIED:20251005T140243Z
UID:10066525-1782086400-1782259199@www.ledet.com
SUMMARY:InDesign 101
DESCRIPTION:
URL:https://www.ledet.com/class/indesign-101-116/
LOCATION:Washington\, DC\, 1634 I Street NW Suite LL100\, Washington\, DC\, 20006\, United States
CATEGORIES:Adobe InDesign
GEO:38.9011107;-77.0389617
X-APPLE-STRUCTURED-LOCATION;VALUE=URI;X-ADDRESS=Washington DC 1634 I Street NW Suite LL100 Washington DC 20006 United States;X-APPLE-RADIUS=500;X-TITLE=1634 I Street NW Suite LL100:geo:-77.0389617,38.9011107
END:VEVENT
BEGIN:VEVENT
DTSTART;VALUE=DATE:20260622
DTEND;VALUE=DATE:20260624
DTSTAMP:20260422T125121
CREATED:20251005T140428Z
LAST-MODIFIED:20251005T140428Z
UID:10066553-1782086400-1782259199@www.ledet.com
SUMMARY:InDesign 101
DESCRIPTION:
URL:https://www.ledet.com/class/indesign-101-126/
LOCATION:Fort Lauderdale\, 250 North Andrews Avenue\, Fort Lauderdale\, FL\, 33301\, United States
CATEGORIES:Adobe InDesign
GEO:26.1248412;-80.1431637
X-APPLE-STRUCTURED-LOCATION;VALUE=URI;X-ADDRESS=Fort Lauderdale 250 North Andrews Avenue Fort Lauderdale FL 33301 United States;X-APPLE-RADIUS=500;X-TITLE=250 North Andrews Avenue:geo:-80.1431637,26.1248412
END:VEVENT
BEGIN:VEVENT
DTSTART;VALUE=DATE:20260622
DTEND;VALUE=DATE:20260627
DTSTAMP:20260422T125121
CREATED:20250906T100021Z
LAST-MODIFIED:20250906T100021Z
UID:10064195-1782086400-1782518399@www.ledet.com
SUMMARY:InDesign 501 - InDesign Bootcamp
DESCRIPTION:
URL:https://www.ledet.com/class/indesign-501-indesign-bootcamp/
LOCATION:Fort Lauderdale\, 250 North Andrews Avenue\, Fort Lauderdale\, FL\, 33301\, United States
CATEGORIES:Adobe InDesign
GEO:26.1248412;-80.1431637
X-APPLE-STRUCTURED-LOCATION;VALUE=URI;X-ADDRESS=Fort Lauderdale 250 North Andrews Avenue Fort Lauderdale FL 33301 United States;X-APPLE-RADIUS=500;X-TITLE=250 North Andrews Avenue:geo:-80.1431637,26.1248412
END:VEVENT
BEGIN:VEVENT
DTSTART;VALUE=DATE:20260622
DTEND;VALUE=DATE:20260627
DTSTAMP:20260422T125121
CREATED:20251005T100324Z
LAST-MODIFIED:20251005T100324Z
UID:10066244-1782086400-1782518399@www.ledet.com
SUMMARY:InDesign 501 - InDesign Bootcamp
DESCRIPTION:
URL:https://www.ledet.com/class/indesign-501-indesign-bootcamp-7/
LOCATION:Atlanta Headquarters\, 3301 Buckeye RD\, Suite 201\, Atlanta\, GA\, 30341\, United States
CATEGORIES:Adobe InDesign
GEO:33.8861149;-84.2572643
X-APPLE-STRUCTURED-LOCATION;VALUE=URI;X-ADDRESS=Atlanta Headquarters 3301 Buckeye RD Suite 201 Atlanta GA 30341 United States;X-APPLE-RADIUS=500;X-TITLE=3301 Buckeye RD\, Suite 201:geo:-84.2572643,33.8861149
END:VEVENT
BEGIN:VEVENT
DTSTART;VALUE=DATE:20260622
DTEND;VALUE=DATE:20260627
DTSTAMP:20260422T125121
CREATED:20251005T100459Z
LAST-MODIFIED:20251005T100459Z
UID:10066272-1782086400-1782518399@www.ledet.com
SUMMARY:InDesign 501 - InDesign Bootcamp
DESCRIPTION:
URL:https://www.ledet.com/class/indesign-501-indesign-bootcamp-25/
LOCATION:Denver – Aurora\, 3000 South Jamaica Ct. Suite 235\, Aurora\, CO\, 80014\, United States
CATEGORIES:Adobe InDesign
GEO:39.6614685;-104.8617895
X-APPLE-STRUCTURED-LOCATION;VALUE=URI;X-ADDRESS=Denver – Aurora 3000 South Jamaica Ct. Suite 235 Aurora CO 80014 United States;X-APPLE-RADIUS=500;X-TITLE=3000 South Jamaica Ct. Suite 235:geo:-104.8617895,39.6614685
END:VEVENT
BEGIN:VEVENT
DTSTART;VALUE=DATE:20260622
DTEND;VALUE=DATE:20260627
DTSTAMP:20260422T125121
CREATED:20251005T110110Z
LAST-MODIFIED:20251005T110110Z
UID:10066300-1782086400-1782518399@www.ledet.com
SUMMARY:InDesign 501 - InDesign Bootcamp
DESCRIPTION:
URL:https://www.ledet.com/class/indesign-501-indesign-bootcamp-32/
LOCATION:Boston – Billerica\, Homewood Suite Hilton - 35 Middlesex Turnpike\, Billerica\, MA\, 01821\, United States
CATEGORIES:Adobe InDesign
GEO:42.5126958;-71.2335682
X-APPLE-STRUCTURED-LOCATION;VALUE=URI;X-ADDRESS=Boston – Billerica Homewood Suite Hilton - 35 Middlesex Turnpike Billerica MA 01821 United States;X-APPLE-RADIUS=500;X-TITLE=Homewood Suite Hilton - 35 Middlesex Turnpike:geo:-71.2335682,42.5126958
END:VEVENT
BEGIN:VEVENT
DTSTART;VALUE=DATE:20260622
DTEND;VALUE=DATE:20260627
DTSTAMP:20260422T125121
CREATED:20251005T110252Z
LAST-MODIFIED:20251005T110252Z
UID:10066328-1782086400-1782518399@www.ledet.com
SUMMARY:InDesign 501 - InDesign Bootcamp
DESCRIPTION:
URL:https://www.ledet.com/class/indesign-501-indesign-bootcamp-39/
LOCATION:Chicago – N. State St\, 17 North State St Suite 1570\, Chicago\, IL\, 60602\, United States
CATEGORIES:Adobe InDesign
GEO:41.8826894;-87.6274492
X-APPLE-STRUCTURED-LOCATION;VALUE=URI;X-ADDRESS=Chicago – N. State St 17 North State St Suite 1570 Chicago IL 60602 United States;X-APPLE-RADIUS=500;X-TITLE=17 North State St Suite 1570:geo:-87.6274492,41.8826894
END:VEVENT
BEGIN:VEVENT
DTSTART;VALUE=DATE:20260622
DTEND;VALUE=DATE:20260627
DTSTAMP:20260422T125121
CREATED:20251005T110433Z
LAST-MODIFIED:20251005T110433Z
UID:10066356-1782086400-1782518399@www.ledet.com
SUMMARY:InDesign 501 - InDesign Bootcamp
DESCRIPTION:
URL:https://www.ledet.com/class/indesign-501-indesign-bootcamp-49/
LOCATION:Columbus- Dublin\, 3920 Tuller Road\, Dublin\, OH\, 43017\, United States
CATEGORIES:Adobe InDesign
GEO:40.108569;-83.0968304
X-APPLE-STRUCTURED-LOCATION;VALUE=URI;X-ADDRESS=Columbus- Dublin 3920 Tuller Road Dublin OH 43017 United States;X-APPLE-RADIUS=500;X-TITLE=3920 Tuller Road:geo:-83.0968304,40.108569
END:VEVENT
BEGIN:VEVENT
DTSTART;VALUE=DATE:20260622
DTEND;VALUE=DATE:20260627
DTSTAMP:20260422T125121
CREATED:20251005T110609Z
LAST-MODIFIED:20251005T110609Z
UID:10066384-1782086400-1782518399@www.ledet.com
SUMMARY:InDesign 501 - InDesign Bootcamp
DESCRIPTION:
URL:https://www.ledet.com/class/indesign-501-indesign-bootcamp-60/
LOCATION:Houston – Hilton Post Oak Galleria\, 2001 Post Oak Boulevard \,  Houston\, TX\, 77056\, United States
CATEGORIES:Adobe InDesign
GEO:29.7459314;-95.4596795
X-APPLE-STRUCTURED-LOCATION;VALUE=URI;X-ADDRESS=Houston – Hilton Post Oak Galleria 2001 Post Oak Boulevard   Houston TX 77056 United States;X-APPLE-RADIUS=500;X-TITLE=2001 Post Oak Boulevard:geo:-95.4596795,29.7459314
END:VEVENT
BEGIN:VEVENT
DTSTART;VALUE=DATE:20260622
DTEND;VALUE=DATE:20260627
DTSTAMP:20260422T125121
CREATED:20251005T130146Z
LAST-MODIFIED:20251005T130146Z
UID:10066412-1782086400-1782518399@www.ledet.com
SUMMARY:InDesign 501 - InDesign Bootcamp
DESCRIPTION:
URL:https://www.ledet.com/class/indesign-501-indesign-bootcamp-71/
LOCATION:Los Angeles\, 1985 East Grand Ave.\, El Segundo\, CA\, 90245\, United States
CATEGORIES:Adobe InDesign
GEO:33.9197794;-118.3918006
X-APPLE-STRUCTURED-LOCATION;VALUE=URI;X-ADDRESS=Los Angeles 1985 East Grand Ave. El Segundo CA 90245 United States;X-APPLE-RADIUS=500;X-TITLE=1985 East Grand Ave.:geo:-118.3918006,33.9197794
END:VEVENT
BEGIN:VEVENT
DTSTART;VALUE=DATE:20260622
DTEND;VALUE=DATE:20260627
DTSTAMP:20260422T125121
CREATED:20251005T130320Z
LAST-MODIFIED:20251005T130320Z
UID:10066440-1782086400-1782518399@www.ledet.com
SUMMARY:InDesign 501 - InDesign Bootcamp
DESCRIPTION:
URL:https://www.ledet.com/class/indesign-501-indesign-bootcamp-91/
LOCATION:Phoenix – Catalina Dr.\, 160 W. Catalina DrivePhoenix\, AZ 85013\, Phoenix\, AZ\, 85013\, United States
CATEGORIES:Adobe InDesign
GEO:33.482432;-112.0773985
X-APPLE-STRUCTURED-LOCATION;VALUE=URI;X-ADDRESS=Phoenix – Catalina Dr. 160 W. Catalina DrivePhoenix AZ 85013 Phoenix AZ 85013 United States;X-APPLE-RADIUS=500;X-TITLE=160 W. Catalina DrivePhoenix\, AZ 85013:geo:-112.0773985,33.482432
END:VEVENT
BEGIN:VEVENT
DTSTART;VALUE=DATE:20260622
DTEND;VALUE=DATE:20260627
DTSTAMP:20260422T125121
CREATED:20251005T130458Z
LAST-MODIFIED:20251005T130458Z
UID:10066468-1782086400-1782518399@www.ledet.com
SUMMARY:InDesign 501 - InDesign Bootcamp
DESCRIPTION:
URL:https://www.ledet.com/class/indesign-501-indesign-bootcamp-103/
LOCATION:Raleigh – Spring Forest Road\, 3621 Spring Forest Road\, Raleigh\, NC\, 27616\, United States
CATEGORIES:Adobe InDesign
GEO:35.8559374;-78.5790124
X-APPLE-STRUCTURED-LOCATION;VALUE=URI;X-ADDRESS=Raleigh – Spring Forest Road 3621 Spring Forest Road Raleigh NC 27616 United States;X-APPLE-RADIUS=500;X-TITLE=3621 Spring Forest Road:geo:-78.5790124,35.8559374
END:VEVENT
BEGIN:VEVENT
DTSTART;VALUE=DATE:20260622
DTEND;VALUE=DATE:20260627
DTSTAMP:20260422T125121
CREATED:20251005T140051Z
LAST-MODIFIED:20251005T140051Z
UID:10066496-1782086400-1782518399@www.ledet.com
SUMMARY:InDesign 501 - InDesign Bootcamp
DESCRIPTION:
URL:https://www.ledet.com/class/indesign-501-indesign-bootcamp-110/
LOCATION:Online\, Online Courses\, Atlanta\, GA\, United States
CATEGORIES:Adobe InDesign
GEO:37.09024;-95.712891
X-APPLE-STRUCTURED-LOCATION;VALUE=URI;X-ADDRESS=Online Online Courses Atlanta GA United States;X-APPLE-RADIUS=500;X-TITLE=Online Courses:geo:-95.712891,37.09024
END:VEVENT
BEGIN:VEVENT
DTSTART;VALUE=DATE:20260622
DTEND;VALUE=DATE:20260627
DTSTAMP:20260422T125121
CREATED:20251005T140239Z
LAST-MODIFIED:20251005T140239Z
UID:10066524-1782086400-1782518399@www.ledet.com
SUMMARY:InDesign 501 - InDesign Bootcamp
DESCRIPTION:
URL:https://www.ledet.com/class/indesign-501-indesign-bootcamp-117/
LOCATION:Washington\, DC\, 1634 I Street NW Suite LL100\, Washington\, DC\, 20006\, United States
CATEGORIES:Adobe InDesign
GEO:38.9011107;-77.0389617
X-APPLE-STRUCTURED-LOCATION;VALUE=URI;X-ADDRESS=Washington DC 1634 I Street NW Suite LL100 Washington DC 20006 United States;X-APPLE-RADIUS=500;X-TITLE=1634 I Street NW Suite LL100:geo:-77.0389617,38.9011107
END:VEVENT
BEGIN:VEVENT
DTSTART;VALUE=DATE:20260622
DTEND;VALUE=DATE:20260627
DTSTAMP:20260422T125121
CREATED:20251005T140424Z
LAST-MODIFIED:20251005T140424Z
UID:10066552-1782086400-1782518399@www.ledet.com
SUMMARY:InDesign 501 - InDesign Bootcamp
DESCRIPTION:
URL:https://www.ledet.com/class/indesign-501-indesign-bootcamp-124/
LOCATION:Fort Lauderdale\, 250 North Andrews Avenue\, Fort Lauderdale\, FL\, 33301\, United States
CATEGORIES:Adobe InDesign
GEO:26.1248412;-80.1431637
X-APPLE-STRUCTURED-LOCATION;VALUE=URI;X-ADDRESS=Fort Lauderdale 250 North Andrews Avenue Fort Lauderdale FL 33301 United States;X-APPLE-RADIUS=500;X-TITLE=250 North Andrews Avenue:geo:-80.1431637,26.1248412
END:VEVENT
BEGIN:VEVENT
DTSTART;VALUE=DATE:20260624
DTEND;VALUE=DATE:20260626
DTSTAMP:20260422T125121
CREATED:20250906T100040Z
LAST-MODIFIED:20250906T100040Z
UID:10064196-1782259200-1782431999@www.ledet.com
SUMMARY:InDesign 201 - InDesign Advanced
DESCRIPTION:
URL:https://www.ledet.com/class/indesign-201-indesign-advanced/
LOCATION:Fort Lauderdale\, 250 North Andrews Avenue\, Fort Lauderdale\, FL\, 33301\, United States
CATEGORIES:Adobe InDesign
GEO:26.1248412;-80.1431637
X-APPLE-STRUCTURED-LOCATION;VALUE=URI;X-ADDRESS=Fort Lauderdale 250 North Andrews Avenue Fort Lauderdale FL 33301 United States;X-APPLE-RADIUS=500;X-TITLE=250 North Andrews Avenue:geo:-80.1431637,26.1248412
END:VEVENT
BEGIN:VEVENT
DTSTART;VALUE=DATE:20260624
DTEND;VALUE=DATE:20260626
DTSTAMP:20260422T125121
CREATED:20251005T100331Z
LAST-MODIFIED:20251005T100331Z
UID:10066246-1782259200-1782431999@www.ledet.com
SUMMARY:InDesign 201 - InDesign Advanced
DESCRIPTION:
URL:https://www.ledet.com/class/indesign-201-indesign-advanced-9/
LOCATION:Atlanta Headquarters\, 3301 Buckeye RD\, Suite 201\, Atlanta\, GA\, 30341\, United States
CATEGORIES:Adobe InDesign
GEO:33.8861149;-84.2572643
X-APPLE-STRUCTURED-LOCATION;VALUE=URI;X-ADDRESS=Atlanta Headquarters 3301 Buckeye RD Suite 201 Atlanta GA 30341 United States;X-APPLE-RADIUS=500;X-TITLE=3301 Buckeye RD\, Suite 201:geo:-84.2572643,33.8861149
END:VEVENT
BEGIN:VEVENT
DTSTART;VALUE=DATE:20260624
DTEND;VALUE=DATE:20260626
DTSTAMP:20260422T125121
CREATED:20251005T100505Z
LAST-MODIFIED:20251005T100505Z
UID:10066274-1782259200-1782431999@www.ledet.com
SUMMARY:InDesign 201 - InDesign Advanced
DESCRIPTION:
URL:https://www.ledet.com/class/indesign-201-indesign-advanced-26/
LOCATION:Denver – Aurora\, 3000 South Jamaica Ct. Suite 235\, Aurora\, CO\, 80014\, United States
CATEGORIES:Adobe InDesign
GEO:39.6614685;-104.8617895
X-APPLE-STRUCTURED-LOCATION;VALUE=URI;X-ADDRESS=Denver – Aurora 3000 South Jamaica Ct. Suite 235 Aurora CO 80014 United States;X-APPLE-RADIUS=500;X-TITLE=3000 South Jamaica Ct. Suite 235:geo:-104.8617895,39.6614685
END:VEVENT
BEGIN:VEVENT
DTSTART;VALUE=DATE:20260624
DTEND;VALUE=DATE:20260626
DTSTAMP:20260422T125121
CREATED:20251005T110118Z
LAST-MODIFIED:20251005T110118Z
UID:10066302-1782259200-1782431999@www.ledet.com
SUMMARY:InDesign 201 - InDesign Advanced
DESCRIPTION:
URL:https://www.ledet.com/class/indesign-201-indesign-advanced-33/
LOCATION:Boston – Billerica\, Homewood Suite Hilton - 35 Middlesex Turnpike\, Billerica\, MA\, 01821\, United States
CATEGORIES:Adobe InDesign
GEO:42.5126958;-71.2335682
X-APPLE-STRUCTURED-LOCATION;VALUE=URI;X-ADDRESS=Boston – Billerica Homewood Suite Hilton - 35 Middlesex Turnpike Billerica MA 01821 United States;X-APPLE-RADIUS=500;X-TITLE=Homewood Suite Hilton - 35 Middlesex Turnpike:geo:-71.2335682,42.5126958
END:VEVENT
BEGIN:VEVENT
DTSTART;VALUE=DATE:20260624
DTEND;VALUE=DATE:20260626
DTSTAMP:20260422T125121
CREATED:20251005T110259Z
LAST-MODIFIED:20251005T110259Z
UID:10066330-1782259200-1782431999@www.ledet.com
SUMMARY:InDesign 201 - InDesign Advanced
DESCRIPTION:
URL:https://www.ledet.com/class/indesign-201-indesign-advanced-40/
LOCATION:Chicago – N. State St\, 17 North State St Suite 1570\, Chicago\, IL\, 60602\, United States
CATEGORIES:Adobe InDesign
GEO:41.8826894;-87.6274492
X-APPLE-STRUCTURED-LOCATION;VALUE=URI;X-ADDRESS=Chicago – N. State St 17 North State St Suite 1570 Chicago IL 60602 United States;X-APPLE-RADIUS=500;X-TITLE=17 North State St Suite 1570:geo:-87.6274492,41.8826894
END:VEVENT
BEGIN:VEVENT
DTSTART;VALUE=DATE:20260624
DTEND;VALUE=DATE:20260626
DTSTAMP:20260422T125121
CREATED:20251005T110441Z
LAST-MODIFIED:20251005T110441Z
UID:10066358-1782259200-1782431999@www.ledet.com
SUMMARY:InDesign 201 - InDesign Advanced
DESCRIPTION:
URL:https://www.ledet.com/class/indesign-201-indesign-advanced-47/
LOCATION:Columbus- Dublin\, 3920 Tuller Road\, Dublin\, OH\, 43017\, United States
CATEGORIES:Adobe InDesign
GEO:40.108569;-83.0968304
X-APPLE-STRUCTURED-LOCATION;VALUE=URI;X-ADDRESS=Columbus- Dublin 3920 Tuller Road Dublin OH 43017 United States;X-APPLE-RADIUS=500;X-TITLE=3920 Tuller Road:geo:-83.0968304,40.108569
END:VEVENT
BEGIN:VEVENT
DTSTART;VALUE=DATE:20260624
DTEND;VALUE=DATE:20260626
DTSTAMP:20260422T125121
CREATED:20251005T130014Z
LAST-MODIFIED:20251005T130014Z
UID:10066386-1782259200-1782431999@www.ledet.com
SUMMARY:InDesign 201 - InDesign Advanced
DESCRIPTION:
URL:https://www.ledet.com/class/indesign-201-indesign-advanced-54/
LOCATION:Houston – Hilton Post Oak Galleria\, 2001 Post Oak Boulevard \,  Houston\, TX\, 77056\, United States
CATEGORIES:Adobe InDesign
GEO:29.7459314;-95.4596795
X-APPLE-STRUCTURED-LOCATION;VALUE=URI;X-ADDRESS=Houston – Hilton Post Oak Galleria 2001 Post Oak Boulevard   Houston TX 77056 United States;X-APPLE-RADIUS=500;X-TITLE=2001 Post Oak Boulevard:geo:-95.4596795,29.7459314
END:VEVENT
BEGIN:VEVENT
DTSTART;VALUE=DATE:20260624
DTEND;VALUE=DATE:20260626
DTSTAMP:20260422T125121
CREATED:20251005T130152Z
LAST-MODIFIED:20251005T130152Z
UID:10066414-1782259200-1782431999@www.ledet.com
SUMMARY:InDesign 201 - InDesign Advanced
DESCRIPTION:
URL:https://www.ledet.com/class/indesign-201-indesign-advanced-61/
LOCATION:Los Angeles\, 1985 East Grand Ave.\, El Segundo\, CA\, 90245\, United States
CATEGORIES:Adobe InDesign
GEO:33.9197794;-118.3918006
X-APPLE-STRUCTURED-LOCATION;VALUE=URI;X-ADDRESS=Los Angeles 1985 East Grand Ave. El Segundo CA 90245 United States;X-APPLE-RADIUS=500;X-TITLE=1985 East Grand Ave.:geo:-118.3918006,33.9197794
END:VEVENT
END:VCALENDAR